BEGIN:VCALENDAR
VERSION:2.0
PRODID:-//gcpc.org//NONSGML kigkonsult.se iCalcreator 2.30.10//
CALSCALE:GREGORIAN
METHOD:PUBLISH
UID:3f73b08a-c8f9-42f1-b58a-b682188e72a2
X-WR-CALDESC:
X-WR-RELCALID:1d4063b53d9fc7836e38b70b20adedf2
X-WR-TIMEZONE:America/Chicago
BEGIN:VTIMEZONE
TZID:America/Chicago
BEGIN:STANDARD
TZNAME:CST
DTSTART:20191103T020000
TZOFFSETFROM:-0500
TZOFFSETTO:-0600
RDATE:20201101T020000
RDATE:20211107T020000
END:STANDARD
BEGIN:DAYLIGHT
TZNAME:CDT
DTSTART:20200308T020000
TZOFFSETFROM:-0600
TZOFFSETTO:-0500
RDATE:20210314T020000
END:DAYLIGHT
END:VTIMEZONE
BEGIN:VEVENT
UID:0db635b2-c8c8-4f85-8ce7-5dee932d4a74
DTSTAMP:20260425T151612Z
DESCRIPTION:
DTSTART;TZID=America/Chicago:20200708T193000
DTEND;TZID=America/Chicago:20200708T210000
LOCATION:Room 6 and Sanctuary
SUMMARY:Chancel Choir
END:VEVENT
END:VCALENDAR
