BEGIN:VCALENDAR
VERSION:2.0
PRODID:-//gcpc.org//NONSGML kigkonsult.se iCalcreator 2.30.10//
CALSCALE:GREGORIAN
METHOD:PUBLISH
UID:b7b8ac6f-4faa-4f04-a830-7f63479fcc8b
X-WR-CALDESC:The College Nooners AA group is currently meeting via Zoom\, a
 s the GCPC facility remains closed due to COVID-19 concerns.  For informat
 ion about the group\, please contact Tom\, 913-530-0981.
X-WR-RELCALID:73e7e4fc0f4a30f51b84589673b2bc99
X-WR-TIMEZONE:America/Chicago
BEGIN:VTIMEZONE
TZID:America/Chicago
BEGIN:STANDARD
TZNAME:CST
DTSTART:20191103T020000
TZOFFSETFROM:-0500
TZOFFSETTO:-0600
RDATE:20201101T020000
RDATE:20211107T020000
END:STANDARD
BEGIN:DAYLIGHT
TZNAME:CDT
DTSTART:20200308T020000
TZOFFSETFROM:-0600
TZOFFSETTO:-0500
RDATE:20210314T020000
END:DAYLIGHT
END:VTIMEZONE
BEGIN:VEVENT
UID:4c2ccc16-bdcc-4b51-a412-db45292f64bd
DTSTAMP:20260420T190404Z
DESCRIPTION:The College Nooners AA group is currently meeting via Zoom\, as
  the GCPC facility remains closed due to COVID-19 concerns.  For informati
 on about the group\, please contact Tom\, 913-530-0981.
DTSTART;TZID=America/Chicago:20200729T120000
DTEND;TZID=America/Chicago:20200729T130000
LOCATION:Heartland Hall
SUMMARY:College Nooners AA
END:VEVENT
END:VCALENDAR
