BEGIN:VCALENDAR
VERSION:2.0
PRODID:-//gcpc.org//NONSGML kigkonsult.se iCalcreator 2.30.10//
CALSCALE:GREGORIAN
METHOD:PUBLISH
UID:fcf55d04-5442-41cb-8427-20e32b641b51
X-WR-CALDESC:Join this group of women for prayer\, lively book discussions\
 , and Bible study. Currently meeting via Zoom.
X-WR-RELCALID:d5d221d77ead3d6647f08f11dc8eebec
X-WR-TIMEZONE:America/Chicago
BEGIN:VTIMEZONE
TZID:America/Chicago
BEGIN:STANDARD
TZNAME:CST
DTSTART:20191103T020000
TZOFFSETFROM:-0500
TZOFFSETTO:-0600
RDATE:20201101T020000
RDATE:20211107T020000
END:STANDARD
BEGIN:DAYLIGHT
TZNAME:CDT
DTSTART:20200308T020000
TZOFFSETFROM:-0600
TZOFFSETTO:-0500
RDATE:20210314T020000
END:DAYLIGHT
END:VTIMEZONE
BEGIN:VEVENT
UID:cfe4348f-76a6-46fd-b3f7-6185d855a126
DTSTAMP:20260421T154742Z
DESCRIPTION:Join this group of women for prayer\, lively book discussions\,
  and Bible study. Currently meeting via Zoom.
DTSTART;TZID=America/Chicago:20200813T093000
DTEND;TZID=America/Chicago:20200813T110000
LOCATION:ONLINE
SUMMARY:Bible Study ONLINE
END:VEVENT
END:VCALENDAR
