BEGIN:VCALENDAR
VERSION:2.0
PRODID:-//gcpc.org//NONSGML kigkonsult.se iCalcreator 2.30.10//
CALSCALE:GREGORIAN
METHOD:PUBLISH
UID:f4dce7bd-bb71-4b7a-b623-4612f230a377
X-WR-CALDESC:Join this group of women for prayer\, lively book discussions\
 , and Bible study. Currently meeting via Zoom.
X-WR-RELCALID:820e8cbd8374ac1a4132c1b2b1dc355f
X-WR-TIMEZONE:America/Chicago
BEGIN:VTIMEZONE
TZID:America/Chicago
BEGIN:STANDARD
TZNAME:CST
DTSTART:20191103T020000
TZOFFSETFROM:-0500
TZOFFSETTO:-0600
RDATE:20201101T020000
RDATE:20211107T020000
END:STANDARD
BEGIN:DAYLIGHT
TZNAME:CDT
DTSTART:20200308T020000
TZOFFSETFROM:-0600
TZOFFSETTO:-0500
RDATE:20210314T020000
END:DAYLIGHT
END:VTIMEZONE
BEGIN:VEVENT
UID:f45a7cf9-3451-4413-9b9b-b2bbe59dedf4
DTSTAMP:20260422T163751Z
DESCRIPTION:Join this group of women for prayer\, lively book discussions\,
  and Bible study. Currently meeting via Zoom.
DTSTART;TZID=America/Chicago:20200820T093000
DTEND;TZID=America/Chicago:20200820T110000
LOCATION:ONLINE
SUMMARY:Bible Study ONLINE
END:VEVENT
END:VCALENDAR
