BEGIN:VCALENDAR
VERSION:2.0
PRODID:-//gcpc.org//NONSGML kigkonsult.se iCalcreator 2.30.10//
CALSCALE:GREGORIAN
METHOD:PUBLISH
UID:4986a89a-ddad-441c-a294-e2bf93fa7cc0
X-WR-CALDESC:
X-WR-RELCALID:e2ced77aa9e371f5f0ac470b266facc1
X-WR-TIMEZONE:America/Chicago
BEGIN:VTIMEZONE
TZID:America/Chicago
BEGIN:STANDARD
TZNAME:CST
DTSTART:20221106T020000
TZOFFSETFROM:-0500
TZOFFSETTO:-0600
RDATE:20231105T020000
END:STANDARD
BEGIN:DAYLIGHT
TZNAME:CDT
DTSTART:20220313T020000
TZOFFSETFROM:-0600
TZOFFSETTO:-0500
RDATE:20230312T020000
RDATE:20240310T020000
END:DAYLIGHT
END:VTIMEZONE
BEGIN:VEVENT
UID:90d9d058-ec68-40bd-a575-87764f6968bf
DTSTAMP:20260421T014125Z
DESCRIPTION:
DTSTART;TZID=America/Chicago:20230110T180000
DTEND;TZID=America/Chicago:20230110T200000
LOCATION:Room 3
SUMMARY:Finance Team
END:VEVENT
END:VCALENDAR
