BEGIN:VCALENDAR
VERSION:2.0
PRODID:-//gcpc.org//NONSGML kigkonsult.se iCalcreator 2.30.10//
CALSCALE:GREGORIAN
METHOD:PUBLISH
UID:9bbfcb61-ca91-4750-8a8b-6c80ce0a1905
X-WR-CALDESC:
X-WR-RELCALID:e0aa6dc79bd75b8032e4882997b67b01
X-WR-TIMEZONE:America/Chicago
BEGIN:VTIMEZONE
TZID:America/Chicago
BEGIN:STANDARD
TZNAME:CST
DTSTART:20221106T020000
TZOFFSETFROM:-0500
TZOFFSETTO:-0600
RDATE:20231105T020000
END:STANDARD
BEGIN:DAYLIGHT
TZNAME:CDT
DTSTART:20220313T020000
TZOFFSETFROM:-0600
TZOFFSETTO:-0500
RDATE:20230312T020000
RDATE:20240310T020000
END:DAYLIGHT
END:VTIMEZONE
BEGIN:VEVENT
UID:325203b6-318e-400f-94d2-cea22ba7bcdd
DTSTAMP:20260424T082832Z
DESCRIPTION:
DTSTART;TZID=America/Chicago:20230125T190500
DTEND;TZID=America/Chicago:20230125T203000
LOCATION:Sanctuary\, Room 6
SUMMARY:CHEX Rehearsal
END:VEVENT
END:VCALENDAR
