BEGIN:VCALENDAR
VERSION:2.0
PRODID:-//gcpc.org//NONSGML kigkonsult.se iCalcreator 2.30.10//
CALSCALE:GREGORIAN
METHOD:PUBLISH
UID:ff9e6315-d77d-422b-b4d0-00aa0061374c
X-WR-CALDESC:
X-WR-RELCALID:a7c99a521d5d7e7b9bac2489f4d2314d
X-WR-TIMEZONE:America/Chicago
BEGIN:VTIMEZONE
TZID:America/Chicago
BEGIN:STANDARD
TZNAME:CST
DTSTART:20221106T020000
TZOFFSETFROM:-0500
TZOFFSETTO:-0600
RDATE:20231105T020000
END:STANDARD
BEGIN:DAYLIGHT
TZNAME:CDT
DTSTART:20220313T020000
TZOFFSETFROM:-0600
TZOFFSETTO:-0500
RDATE:20230312T020000
RDATE:20240310T020000
END:DAYLIGHT
END:VTIMEZONE
BEGIN:VEVENT
UID:e633b105-3fe0-47ab-81a5-c23d0e7a8146
DTSTAMP:20260424T200949Z
DESCRIPTION:
DTSTART;TZID=America/Chicago:20230129T000000
DTEND;TZID=America/Chicago:20230129T235900
LOCATION:Sanctuary
SUMMARY:ANNUAL MEETING
END:VEVENT
END:VCALENDAR
