BEGIN:VCALENDAR
VERSION:2.0
PRODID:-//gcpc.org//NONSGML kigkonsult.se iCalcreator 2.30.10//
CALSCALE:GREGORIAN
METHOD:PUBLISH
UID:03849aab-bc8e-4cd9-b0a0-1e8cd8aaab3f
X-WR-CALDESC:Communion is celebrated on the first Sunday of every month at 
 both worship services. The 8:50 service is by intinction\, and at the 11:0
 5\, the elements are passed.
X-WR-RELCALID:36576fa51fa8bb3a3918eb5392014804
X-WR-TIMEZONE:America/Chicago
BEGIN:VTIMEZONE
TZID:America/Chicago
BEGIN:STANDARD
TZNAME:CST
DTSTART:20221106T020000
TZOFFSETFROM:-0500
TZOFFSETTO:-0600
RDATE:20231105T020000
END:STANDARD
BEGIN:DAYLIGHT
TZNAME:CDT
DTSTART:20220313T020000
TZOFFSETFROM:-0600
TZOFFSETTO:-0500
RDATE:20230312T020000
RDATE:20240310T020000
END:DAYLIGHT
END:VTIMEZONE
BEGIN:VEVENT
UID:5ac20eda-23e3-48a7-be56-b4fbbc11cc3e
DTSTAMP:20260423T174303Z
DESCRIPTION:Communion is celebrated on the first Sunday of every month at b
 oth worship services. The 8:50 service is by intinction\, and at the 11:05
 \, the elements are passed.
DTSTART;TZID=America/Chicago:20230205T000000
DTEND;TZID=America/Chicago:20230205T235900
LOCATION:
SUMMARY:COMMUNION SUNDAY
END:VEVENT
END:VCALENDAR
