BEGIN:VCALENDAR
VERSION:2.0
PRODID:-//gcpc.org//NONSGML kigkonsult.se iCalcreator 2.30.10//
CALSCALE:GREGORIAN
METHOD:PUBLISH
UID:356bb982-3e73-4552-a5e3-8e0cdeb1c0fb
X-WR-CALDESC:
X-WR-RELCALID:0a2daefdf4a1c8a6663e048f67620682
X-WR-TIMEZONE:America/Chicago
BEGIN:VTIMEZONE
TZID:America/Chicago
BEGIN:STANDARD
TZNAME:CST
DTSTART:20221106T020000
TZOFFSETFROM:-0500
TZOFFSETTO:-0600
RDATE:20231105T020000
END:STANDARD
BEGIN:DAYLIGHT
TZNAME:CDT
DTSTART:20220313T020000
TZOFFSETFROM:-0600
TZOFFSETTO:-0500
RDATE:20230312T020000
RDATE:20240310T020000
END:DAYLIGHT
END:VTIMEZONE
BEGIN:VEVENT
UID:a104a3b4-92d8-46f2-b8d2-62219368b4bf
DTSTAMP:20260424T174545Z
DESCRIPTION:
DTSTART;TZID=America/Chicago:20230205T104500
DTEND;TZID=America/Chicago:20230205T114500
LOCATION:
SUMMARY:Christian Education
END:VEVENT
END:VCALENDAR
