BEGIN:VCALENDAR
VERSION:2.0
PRODID:-//gcpc.org//NONSGML kigkonsult.se iCalcreator 2.30.10//
CALSCALE:GREGORIAN
METHOD:PUBLISH
UID:b83c28d5-38fc-4091-bf3a-5efeba1b57de
X-WR-CALDESC:
X-WR-RELCALID:87587bb65df392adf7d6987c91ac6d29
X-WR-TIMEZONE:America/Chicago
BEGIN:VTIMEZONE
TZID:America/Chicago
BEGIN:STANDARD
TZNAME:CST
DTSTART:20221106T020000
TZOFFSETFROM:-0500
TZOFFSETTO:-0600
RDATE:20231105T020000
END:STANDARD
BEGIN:DAYLIGHT
TZNAME:CDT
DTSTART:20220313T020000
TZOFFSETFROM:-0600
TZOFFSETTO:-0500
RDATE:20230312T020000
RDATE:20240310T020000
END:DAYLIGHT
END:VTIMEZONE
BEGIN:VEVENT
UID:a55bfc12-c3df-4bf8-bf7b-52fa3d0d843c
DTSTAMP:20260426T004958Z
DESCRIPTION:
DTSTART;TZID=America/Chicago:20230206T183000
DTEND;TZID=America/Chicago:20230206T193000
LOCATION:ONLINE
SUMMARY:Music Team
END:VEVENT
END:VCALENDAR
