BEGIN:VCALENDAR
VERSION:2.0
PRODID:-//gcpc.org//NONSGML kigkonsult.se iCalcreator 2.30.10//
CALSCALE:GREGORIAN
METHOD:PUBLISH
UID:20b77efb-b994-4840-9ef6-b1636b18c408
X-WR-CALDESC:We play Bunco on the second Thursday of each month at the chur
 ch from 6:30 to 8:30pm. If you are looking for a fun evening of laughter a
 nd fun\, please come join us.  Contact Jane below.
X-WR-RELCALID:c73de1683364a4d8b2ebb8711c12bd99
X-WR-TIMEZONE:America/Chicago
BEGIN:VTIMEZONE
TZID:America/Chicago
BEGIN:STANDARD
TZNAME:CST
DTSTART:20221106T020000
TZOFFSETFROM:-0500
TZOFFSETTO:-0600
RDATE:20231105T020000
END:STANDARD
BEGIN:DAYLIGHT
TZNAME:CDT
DTSTART:20220313T020000
TZOFFSETFROM:-0600
TZOFFSETTO:-0500
RDATE:20230312T020000
RDATE:20240310T020000
END:DAYLIGHT
END:VTIMEZONE
BEGIN:VEVENT
UID:60f30c77-359b-4a46-804b-c5037affa0ef
DTSTAMP:20260422T132540Z
DESCRIPTION:We play Bunco on the second Thursday of each month at the churc
 h from 6:30 to 8:30pm. If you are looking for a fun evening of laughter an
 d fun\, please come join us.  Contact Jane below.
DTSTART;TZID=America/Chicago:20230209T183000
DTEND;TZID=America/Chicago:20230209T203000
LOCATION:Room 5
SUMMARY:Bunco
END:VEVENT
END:VCALENDAR
