BEGIN:VCALENDAR
VERSION:2.0
PRODID:-//gcpc.org//NONSGML kigkonsult.se iCalcreator 2.30.10//
CALSCALE:GREGORIAN
METHOD:PUBLISH
UID:a41bb6eb-33ec-47f6-a1ab-55bd0b8a1d0b
X-WR-CALDESC:
X-WR-RELCALID:153a3a4fe242b4ea21b3b3716149c8f5
X-WR-TIMEZONE:America/Chicago
BEGIN:VTIMEZONE
TZID:America/Chicago
BEGIN:STANDARD
TZNAME:CST
DTSTART:20221106T020000
TZOFFSETFROM:-0500
TZOFFSETTO:-0600
RDATE:20231105T020000
END:STANDARD
BEGIN:DAYLIGHT
TZNAME:CDT
DTSTART:20220313T020000
TZOFFSETFROM:-0600
TZOFFSETTO:-0500
RDATE:20230312T020000
RDATE:20240310T020000
END:DAYLIGHT
END:VTIMEZONE
BEGIN:VEVENT
UID:bbb177db-f6cb-41dd-9e09-71aab038701f
DTSTAMP:20260420T162644Z
DESCRIPTION:
DTSTART;TZID=America/Chicago:20230305T114500
DTEND;TZID=America/Chicago:20230305T140000
LOCATION:Heartland Hall
SUMMARY:IHN Training
END:VEVENT
END:VCALENDAR
