BEGIN:VCALENDAR
VERSION:2.0
PRODID:-//gcpc.org//NONSGML kigkonsult.se iCalcreator 2.30.10//
CALSCALE:GREGORIAN
METHOD:PUBLISH
UID:8679f5c3-0148-41e4-b76a-fc6fd75563a2
X-WR-CALDESC:
X-WR-RELCALID:b02bda28e1c977de953a34e9f76a8a89
X-WR-TIMEZONE:America/Chicago
BEGIN:VTIMEZONE
TZID:America/Chicago
BEGIN:STANDARD
TZNAME:CST
DTSTART:20221106T020000
TZOFFSETFROM:-0500
TZOFFSETTO:-0600
RDATE:20231105T020000
END:STANDARD
BEGIN:DAYLIGHT
TZNAME:CDT
DTSTART:20220313T020000
TZOFFSETFROM:-0600
TZOFFSETTO:-0500
RDATE:20230312T020000
RDATE:20240310T020000
END:DAYLIGHT
END:VTIMEZONE
BEGIN:VEVENT
UID:22dd7640-b606-4c3c-ba68-1271d06ab491
DTSTAMP:20260426T004825Z
DESCRIPTION:
DTSTART;TZID=America/Chicago:20230309T190000
DTEND;TZID=America/Chicago:20230309T200000
LOCATION:Sanctuary and Choir Room
SUMMARY:Orchestra Rehearsal
END:VEVENT
END:VCALENDAR
