BEGIN:VCALENDAR
VERSION:2.0
PRODID:-//gcpc.org//NONSGML kigkonsult.se iCalcreator 2.30.10//
CALSCALE:GREGORIAN
METHOD:PUBLISH
UID:0ad30602-b201-4db7-96fe-f24ae3c02a19
X-WR-CALDESC:Children's music education offered during the Christian educat
 ion hour each Sunday.
X-WR-RELCALID:2e2ca5b66fc861b58e257bee6d934f3e
X-WR-TIMEZONE:America/Chicago
BEGIN:VTIMEZONE
TZID:America/Chicago
BEGIN:STANDARD
TZNAME:CST
DTSTART:20221106T020000
TZOFFSETFROM:-0500
TZOFFSETTO:-0600
RDATE:20231105T020000
END:STANDARD
BEGIN:DAYLIGHT
TZNAME:CDT
DTSTART:20220313T020000
TZOFFSETFROM:-0600
TZOFFSETTO:-0500
RDATE:20230312T020000
RDATE:20240310T020000
END:DAYLIGHT
END:VTIMEZONE
BEGIN:VEVENT
UID:8d5c23fb-74c0-46d8-8028-f78d50cf19bf
DTSTAMP:20260423T144204Z
DESCRIPTION:Children's music education offered during the Christian educati
 on hour each Sunday.
DTSTART;TZID=America/Chicago:20230312T104500
DTEND;TZID=America/Chicago:20230312T110000
LOCATION:Room 15
SUMMARY:Joy & Celebration
END:VEVENT
END:VCALENDAR
