BEGIN:VCALENDAR
VERSION:2.0
PRODID:-//gcpc.org//NONSGML kigkonsult.se iCalcreator 2.30.10//
CALSCALE:GREGORIAN
METHOD:PUBLISH
UID:bd6b42f7-5cd2-454d-8a7e-d4ecea674183
X-WR-CALDESC:
X-WR-RELCALID:339095e4d260be9655153f6b1c2845f1
X-WR-TIMEZONE:America/Chicago
BEGIN:VTIMEZONE
TZID:America/Chicago
BEGIN:STANDARD
TZNAME:CST
DTSTART:20221106T020000
TZOFFSETFROM:-0500
TZOFFSETTO:-0600
RDATE:20231105T020000
END:STANDARD
BEGIN:DAYLIGHT
TZNAME:CDT
DTSTART:20230312T020000
TZOFFSETFROM:-0600
TZOFFSETTO:-0500
RDATE:20240310T020000
END:DAYLIGHT
END:VTIMEZONE
BEGIN:VEVENT
UID:7ffb9570-e0fd-4cb8-b365-582a95f84025
DTSTAMP:20260421T004801Z
DESCRIPTION:
DTSTART;TZID=America/Chicago:20230318T090000
DTEND;TZID=America/Chicago:20230318T120000
LOCATION:
SUMMARY:Organ Rehearsal
END:VEVENT
END:VCALENDAR
