BEGIN:VCALENDAR
VERSION:2.0
PRODID:-//gcpc.org//NONSGML kigkonsult.se iCalcreator 2.30.10//
CALSCALE:GREGORIAN
METHOD:PUBLISH
UID:4f410e3e-9d8c-4d8a-98d5-5e625558c132
X-WR-CALDESC:Please contact Tom\, 913-530-0981\, for more information about
  the College Nooners.
X-WR-RELCALID:3a99c5391a2d8e93648193dbb7957a4d
X-WR-TIMEZONE:America/Chicago
BEGIN:VTIMEZONE
TZID:America/Chicago
BEGIN:STANDARD
TZNAME:CST
DTSTART:20221106T020000
TZOFFSETFROM:-0500
TZOFFSETTO:-0600
RDATE:20231105T020000
END:STANDARD
BEGIN:DAYLIGHT
TZNAME:CDT
DTSTART:20230312T020000
TZOFFSETFROM:-0600
TZOFFSETTO:-0500
RDATE:20240310T020000
END:DAYLIGHT
END:VTIMEZONE
BEGIN:VEVENT
UID:fa302904-f6e5-43b6-baa4-57a501d912c1
DTSTAMP:20260424T113115Z
DESCRIPTION:Please contact Tom\, 913-530-0981\, for more information about 
 the College Nooners.
DTSTART;TZID=America/Chicago:20230319T133000
DTEND;TZID=America/Chicago:20230319T143000
LOCATION:ONLINE
SUMMARY:College Nooners AA
END:VEVENT
END:VCALENDAR
