BEGIN:VCALENDAR
VERSION:2.0
PRODID:-//gcpc.org//NONSGML kigkonsult.se iCalcreator 2.30.10//
CALSCALE:GREGORIAN
METHOD:PUBLISH
UID:d52436f8-0e1d-4d7d-944e-9ac017e919f4
X-WR-CALDESC:To view the bulletin\, announcements\, get Zoom link and more\
 , click the LINK on our home page for this week's worship service.\n
X-WR-RELCALID:d13001899b90264b309c2f4bdd46fded
X-WR-TIMEZONE:America/Chicago
BEGIN:VTIMEZONE
TZID:America/Chicago
BEGIN:STANDARD
TZNAME:CST
DTSTART:20221106T020000
TZOFFSETFROM:-0500
TZOFFSETTO:-0600
RDATE:20231105T020000
END:STANDARD
BEGIN:DAYLIGHT
TZNAME:CDT
DTSTART:20230312T020000
TZOFFSETFROM:-0600
TZOFFSETTO:-0500
RDATE:20240310T020000
END:DAYLIGHT
END:VTIMEZONE
BEGIN:VEVENT
UID:9950fb29-22cc-44d8-af78-c20e7946ea05
DTSTAMP:20260422T171227Z
DESCRIPTION:To view the bulletin\, announcements\, get Zoom link and more\,
  click the LINK on our home page for this week's worship service.\n
DTSTART;TZID=America/Chicago:20230326T093000
DTEND;TZID=America/Chicago:20230326T103000
LOCATION:Sanctuary
SUMMARY:Worship
END:VEVENT
END:VCALENDAR
