BEGIN:VCALENDAR
VERSION:2.0
PRODID:-//gcpc.org//NONSGML kigkonsult.se iCalcreator 2.30.10//
CALSCALE:GREGORIAN
METHOD:PUBLISH
UID:b232d77d-c3fa-41b3-aba9-1151cd7c3d8e
X-WR-CALDESC:This group meets weekly to develop woodworking skills and for 
 fellowship.
X-WR-RELCALID:306268cc76e7a93ee135e831ff651a2f
X-WR-TIMEZONE:America/Chicago
BEGIN:VTIMEZONE
TZID:America/Chicago
BEGIN:STANDARD
TZNAME:CST
DTSTART:20231105T020000
TZOFFSETFROM:-0500
TZOFFSETTO:-0600
RDATE:20241103T020000
END:STANDARD
BEGIN:DAYLIGHT
TZNAME:CDT
DTSTART:20230312T020000
TZOFFSETFROM:-0600
TZOFFSETTO:-0500
RDATE:20240310T020000
RDATE:20250309T020000
END:DAYLIGHT
END:VTIMEZONE
BEGIN:VEVENT
UID:0b24bdee-2395-4444-a83f-192065e94826
DTSTAMP:20260425T152310Z
DESCRIPTION:This group meets weekly to develop woodworking skills and for f
 ellowship.
DTSTART;TZID=America/Chicago:20240213T090000
DTEND;TZID=America/Chicago:20240213T110000
LOCATION:Heartland Hall
SUMMARY:Woodworkers
END:VEVENT
END:VCALENDAR
