BEGIN:VCALENDAR
VERSION:2.0
PRODID:-//gcpc.org//NONSGML kigkonsult.se iCalcreator 2.30.10//
CALSCALE:GREGORIAN
METHOD:PUBLISH
UID:7dba0bd5-ebfb-4ca4-8b23-131756d3cffb
X-WR-CALDESC:
X-WR-RELCALID:7bb2fc1b1fa8c037a5d80f97bc7451ab
X-WR-TIMEZONE:America/Chicago
BEGIN:VTIMEZONE
TZID:America/Chicago
BEGIN:STANDARD
TZNAME:CST
DTSTART:20231105T020000
TZOFFSETFROM:-0500
TZOFFSETTO:-0600
RDATE:20241103T020000
END:STANDARD
BEGIN:DAYLIGHT
TZNAME:CDT
DTSTART:20240310T020000
TZOFFSETFROM:-0600
TZOFFSETTO:-0500
RDATE:20250309T020000
END:DAYLIGHT
END:VTIMEZONE
BEGIN:VEVENT
UID:24964fa9-b328-4a63-81ad-da66fe51622a
DTSTAMP:20260425T012739Z
DESCRIPTION:
DTSTART;TZID=America/Chicago:20240316T103000
DTEND;TZID=America/Chicago:20240316T113000
LOCATION:11100 College Blvd.\, Overland Park\, KS 66210 US
SUMMARY:Wind Ensemble Rehearsal
END:VEVENT
END:VCALENDAR
