BEGIN:VCALENDAR
VERSION:2.0
PRODID:-//gcpc.org//NONSGML kigkonsult.se iCalcreator 2.30.10//
CALSCALE:GREGORIAN
METHOD:PUBLISH
UID:d9bd7439-cd05-493b-aeb9-1ab085e692b3
X-WR-CALDESC:
X-WR-RELCALID:c87a71377112d72ebd726534273486c8
X-WR-TIMEZONE:America/Chicago
BEGIN:VTIMEZONE
TZID:America/Chicago
BEGIN:STANDARD
TZNAME:CST
DTSTART:20231105T020000
TZOFFSETFROM:-0500
TZOFFSETTO:-0600
RDATE:20241103T020000
END:STANDARD
BEGIN:DAYLIGHT
TZNAME:CDT
DTSTART:20240310T020000
TZOFFSETFROM:-0600
TZOFFSETTO:-0500
RDATE:20250309T020000
END:DAYLIGHT
END:VTIMEZONE
BEGIN:VEVENT
UID:76a317d8-1d40-4db1-8f87-6c1fa3f4e654
DTSTAMP:20260423T031341Z
DESCRIPTION:
DTSTART;TZID=America/Chicago:20240408T193000
DTEND;TZID=America/Chicago:20240408T203000
LOCATION:ONLINE
SUMMARY:Music Team
END:VEVENT
END:VCALENDAR
