BEGIN:VCALENDAR
VERSION:2.0
PRODID:-//gcpc.org//NONSGML kigkonsult.se iCalcreator 2.30.10//
CALSCALE:GREGORIAN
METHOD:PUBLISH
UID:2a861904-4e7d-4bf8-a140-818d36f44bb1
X-WR-CALDESC:
X-WR-RELCALID:b51ee4ded0a44e49210037680012e82d
X-WR-TIMEZONE:America/Chicago
BEGIN:VTIMEZONE
TZID:America/Chicago
BEGIN:STANDARD
TZNAME:CST
DTSTART:20231105T020000
TZOFFSETFROM:-0500
TZOFFSETTO:-0600
RDATE:20241103T020000
RDATE:20251102T020000
END:STANDARD
BEGIN:DAYLIGHT
TZNAME:CDT
DTSTART:20240310T020000
TZOFFSETFROM:-0600
TZOFFSETTO:-0500
RDATE:20250309T020000
END:DAYLIGHT
END:VTIMEZONE
BEGIN:VEVENT
UID:033427c4-5d5e-4833-bb17-235d0faadf06
DTSTAMP:20260425T181159Z
DESCRIPTION:
DTSTART;TZID=America/Chicago:20240506T193000
DTEND;TZID=America/Chicago:20240506T203000
LOCATION:ONLINE
SUMMARY:Music Team
END:VEVENT
END:VCALENDAR
