BEGIN:VCALENDAR
VERSION:2.0
PRODID:-//gcpc.org//NONSGML kigkonsult.se iCalcreator 2.30.10//
CALSCALE:GREGORIAN
METHOD:PUBLISH
UID:843cad2f-2a0f-41e6-b6d4-e0d4fe16950c
X-WR-CALDESC:
X-WR-RELCALID:6a89a985a4760ab21ddf814eb4946bc4
X-WR-TIMEZONE:America/Chicago
BEGIN:VTIMEZONE
TZID:America/Chicago
BEGIN:STANDARD
TZNAME:CST
DTSTART:20231105T020000
TZOFFSETFROM:-0500
TZOFFSETTO:-0600
RDATE:20241103T020000
RDATE:20251102T020000
END:STANDARD
BEGIN:DAYLIGHT
TZNAME:CDT
DTSTART:20240310T020000
TZOFFSETFROM:-0600
TZOFFSETTO:-0500
RDATE:20250309T020000
END:DAYLIGHT
END:VTIMEZONE
BEGIN:VEVENT
UID:ea02dd51-92f0-44d0-a1dc-f2f09824de98
DTSTAMP:20260422T021935Z
DESCRIPTION:
DTSTART;TZID=America/Chicago:20240512T050000
DTEND;TZID=America/Chicago:20240512T050001
LOCATION:
SUMMARY:Youth Sunday
END:VEVENT
END:VCALENDAR
