BEGIN:VCALENDAR
VERSION:2.0
PRODID:-//gcpc.org//NONSGML kigkonsult.se iCalcreator 2.30.10//
CALSCALE:GREGORIAN
METHOD:PUBLISH
UID:fd704d6c-d618-44ff-bc71-37c15695131d
X-WR-CALDESC:
X-WR-RELCALID:bf1cede589ce62279020adee9045cad9
X-WR-TIMEZONE:America/Chicago
BEGIN:VTIMEZONE
TZID:America/Chicago
BEGIN:STANDARD
TZNAME:CST
DTSTART:20231105T020000
TZOFFSETFROM:-0500
TZOFFSETTO:-0600
RDATE:20241103T020000
RDATE:20251102T020000
END:STANDARD
BEGIN:DAYLIGHT
TZNAME:CDT
DTSTART:20240310T020000
TZOFFSETFROM:-0600
TZOFFSETTO:-0500
RDATE:20250309T020000
END:DAYLIGHT
END:VTIMEZONE
BEGIN:VEVENT
UID:3aca4257-1b80-44a2-8794-4d43cecfac7b
DTSTAMP:20260421T213947Z
DESCRIPTION:
DTSTART;TZID=America/Chicago:20240515T190500
DTEND;TZID=America/Chicago:20240515T203000
LOCATION:Sanctuary\, Room 6
SUMMARY:CHEX Rehearsal
END:VEVENT
END:VCALENDAR
