BEGIN:VCALENDAR
VERSION:2.0
PRODID:-//gcpc.org//NONSGML kigkonsult.se iCalcreator 2.30.10//
CALSCALE:GREGORIAN
METHOD:PUBLISH
UID:fe2fbfbc-a225-4115-9eae-70619a6281a6
X-WR-CALDESC:
X-WR-RELCALID:7d321b4a4c468718ed0699f740746cca
X-WR-TIMEZONE:America/Chicago
BEGIN:VTIMEZONE
TZID:America/Chicago
BEGIN:STANDARD
TZNAME:CST
DTSTART:20231105T020000
TZOFFSETFROM:-0500
TZOFFSETTO:-0600
RDATE:20241103T020000
RDATE:20251102T020000
END:STANDARD
BEGIN:DAYLIGHT
TZNAME:CDT
DTSTART:20240310T020000
TZOFFSETFROM:-0600
TZOFFSETTO:-0500
RDATE:20250309T020000
END:DAYLIGHT
END:VTIMEZONE
BEGIN:VEVENT
UID:f5830e4e-9970-4c5b-961f-ac382a64dd82
DTSTAMP:20260425T122753Z
DESCRIPTION:
DTSTART;TZID=America/Chicago:20240519T103000
DTEND;TZID=America/Chicago:20240519T120000
LOCATION:
SUMMARY:Dover Reception
END:VEVENT
END:VCALENDAR
