BEGIN:VCALENDAR
VERSION:2.0
PRODID:-//gcpc.org//NONSGML kigkonsult.se iCalcreator 2.30.10//
CALSCALE:GREGORIAN
METHOD:PUBLISH
UID:fbb80a15-cf37-4c8f-8e20-63ad1580a6f0
X-WR-CALDESC:Set-up begins at 12:30pm - actual playing time is 1-4pm
X-WR-RELCALID:0348e04a10c3265e87ab101b92990c29
X-WR-TIMEZONE:America/Chicago
BEGIN:VTIMEZONE
TZID:America/Chicago
BEGIN:STANDARD
TZNAME:CST
DTSTART:20231105T020000
TZOFFSETFROM:-0500
TZOFFSETTO:-0600
RDATE:20241103T020000
RDATE:20251102T020000
END:STANDARD
BEGIN:DAYLIGHT
TZNAME:CDT
DTSTART:20240310T020000
TZOFFSETFROM:-0600
TZOFFSETTO:-0500
RDATE:20250309T020000
RDATE:20260308T020000
END:DAYLIGHT
END:VTIMEZONE
BEGIN:VEVENT
UID:31103826-a971-4e23-bf1e-a73b3ccce6b0
DTSTAMP:20260424T030718Z
DESCRIPTION:Set-up begins at 12:30pm - actual playing time is 1-4pm
DTSTART;TZID=America/Chicago:20241007T130000
DTEND;TZID=America/Chicago:20241007T163000
LOCATION:Room 5
SUMMARY:Bridge Group
END:VEVENT
END:VCALENDAR
