BEGIN:VCALENDAR
VERSION:2.0
PRODID:-//gcpc.org//NONSGML kigkonsult.se iCalcreator 2.30.10//
CALSCALE:GREGORIAN
METHOD:PUBLISH
UID:26200472-5b19-4414-91d6-ecfda930b07a
X-WR-CALDESC:To view the bulletin\, announcements\, get Zoom link and more\
 , click the LINK on our home page for this week's worship service.\n
X-WR-RELCALID:696bb0be3afbbafe3f38fcda1fbbb16e
X-WR-TIMEZONE:America/Chicago
BEGIN:VTIMEZONE
TZID:America/Chicago
BEGIN:STANDARD
TZNAME:CST
DTSTART:20231105T020000
TZOFFSETFROM:-0500
TZOFFSETTO:-0600
RDATE:20241103T020000
RDATE:20251102T020000
END:STANDARD
BEGIN:DAYLIGHT
TZNAME:CDT
DTSTART:20240310T020000
TZOFFSETFROM:-0600
TZOFFSETTO:-0500
RDATE:20250309T020000
RDATE:20260308T020000
END:DAYLIGHT
END:VTIMEZONE
BEGIN:VEVENT
UID:fc4e6203-dc7f-4f39-9562-448b43ca6574
DTSTAMP:20260424T172847Z
DESCRIPTION:To view the bulletin\, announcements\, get Zoom link and more\,
  click the LINK on our home page for this week's worship service.\n
DTSTART;TZID=America/Chicago:20241103T093000
DTEND;TZID=America/Chicago:20241103T103000
LOCATION:Sanctuary
SUMMARY:Worship
END:VEVENT
END:VCALENDAR
