BEGIN:VCALENDAR
VERSION:2.0
PRODID:-//gcpc.org//NONSGML kigkonsult.se iCalcreator 2.30.10//
CALSCALE:GREGORIAN
METHOD:PUBLISH
UID:449c2f98-eeac-4ba2-bc26-f783f84ebebc
X-WR-CALDESC:The Jubilation! Ringers are an ensemble for beginning to inter
 mediate handbell ringers and include youth and adult ringers. They rehears
 e on Sundays from 12:15-1:30pm in Room 1 and are directed by Kathy Bures.
X-WR-RELCALID:ee572f2ff5b9ed28f58c3ba56623e9e2
X-WR-TIMEZONE:America/Chicago
BEGIN:VTIMEZONE
TZID:America/Chicago
BEGIN:STANDARD
TZNAME:CST
DTSTART:20241103T020000
TZOFFSETFROM:-0500
TZOFFSETTO:-0600
RDATE:20251102T020000
END:STANDARD
BEGIN:DAYLIGHT
TZNAME:CDT
DTSTART:20240310T020000
TZOFFSETFROM:-0600
TZOFFSETTO:-0500
RDATE:20250309T020000
RDATE:20260308T020000
END:DAYLIGHT
END:VTIMEZONE
BEGIN:VEVENT
UID:3100283e-d55c-4c8e-99d6-fd66cb61c36d
DTSTAMP:20260420T115835Z
DESCRIPTION:The Jubilation! Ringers are an ensemble for beginning to interm
 ediate handbell ringers and include youth and adult ringers. They rehearse
  on Sundays from 12:15-1:30pm in Room 1 and are directed by Kathy Bures.
DTSTART;TZID=America/Chicago:20241201T121500
DTEND;TZID=America/Chicago:20241201T133000
LOCATION:Meets in Room 1\, Bell Room.
SUMMARY:Jubilation! Ringers
END:VEVENT
END:VCALENDAR
