BEGIN:VCALENDAR
VERSION:2.0
PRODID:-//gcpc.org//NONSGML kigkonsult.se iCalcreator 2.30.10//
CALSCALE:GREGORIAN
METHOD:PUBLISH
UID:a1f0a696-1a30-48ae-a000-c9f06600b482
X-WR-CALDESC:The Charter Ringers are an ensemble for intermediate to advanc
 ed handbell ringers and play a range of exciting and challenging music. Th
 ey are co-directed by Celia Nicholas and Chris Krug and rehearse on Wednes
 days from 6:00-7:00pm in Room 1.
X-WR-RELCALID:7ad5a116ea538b25d595314a6da6900f
X-WR-TIMEZONE:America/Chicago
BEGIN:VTIMEZONE
TZID:America/Chicago
BEGIN:STANDARD
TZNAME:CST
DTSTART:20241103T020000
TZOFFSETFROM:-0500
TZOFFSETTO:-0600
RDATE:20251102T020000
END:STANDARD
BEGIN:DAYLIGHT
TZNAME:CDT
DTSTART:20240310T020000
TZOFFSETFROM:-0600
TZOFFSETTO:-0500
RDATE:20250309T020000
RDATE:20260308T020000
END:DAYLIGHT
END:VTIMEZONE
BEGIN:VEVENT
UID:35021fa8-eaf5-4780-8746-950b40dc9747
DTSTAMP:20260423T131840Z
DESCRIPTION:The Charter Ringers are an ensemble for intermediate to advance
 d handbell ringers and play a range of exciting and challenging music. The
 y are co-directed by Celia Nicholas and Chris Krug and rehearse on Wednesd
 ays from 6:00-7:00pm in Room 1.
DTSTART;TZID=America/Chicago:20241204T180000
DTEND;TZID=America/Chicago:20241204T190000
LOCATION:Meets in Room 1\, Bell Room.
SUMMARY:Charter Ringers
END:VEVENT
END:VCALENDAR
