BEGIN:VCALENDAR
VERSION:2.0
PRODID:-//gcpc.org//NONSGML kigkonsult.se iCalcreator 2.30.10//
CALSCALE:GREGORIAN
METHOD:PUBLISH
UID:1804a843-34da-4310-a969-946fc0b18c6c
X-WR-CALDESC:
X-WR-RELCALID:2c45771f7bd93754628deb6213284b0f
X-WR-TIMEZONE:America/Chicago
BEGIN:VTIMEZONE
TZID:America/Chicago
BEGIN:STANDARD
TZNAME:CST
DTSTART:20241103T020000
TZOFFSETFROM:-0500
TZOFFSETTO:-0600
RDATE:20251102T020000
END:STANDARD
BEGIN:DAYLIGHT
TZNAME:CDT
DTSTART:20240310T020000
TZOFFSETFROM:-0600
TZOFFSETTO:-0500
RDATE:20250309T020000
RDATE:20260308T020000
END:DAYLIGHT
END:VTIMEZONE
BEGIN:VEVENT
UID:38b3f822-deb3-425b-8632-aafb9098301b
DTSTAMP:20260422T154353Z
DESCRIPTION:
DTSTART;TZID=America/Chicago:20250210T110000
DTEND;TZID=America/Chicago:20250210T120000
LOCATION:
SUMMARY:EncoreKC! Choir
END:VEVENT
END:VCALENDAR
