BEGIN:VCALENDAR
VERSION:2.0
PRODID:-//gcpc.org//NONSGML kigkonsult.se iCalcreator 2.30.10//
CALSCALE:GREGORIAN
METHOD:PUBLISH
UID:d901d3b4-45c3-4eb4-be64-c05d94719af8
X-WR-CALDESC:The Jubilation! Ringers are an ensemble for beginning to inter
 mediate handbell ringers and include youth and adult ringers. They rehears
 e on Sundays from 12:15-1:30pm in Room 1 and are directed by Kathy Bures.
X-WR-RELCALID:667cb968ccb6d1b1587265dcb56d9294
X-WR-TIMEZONE:America/Chicago
BEGIN:VTIMEZONE
TZID:America/Chicago
BEGIN:STANDARD
TZNAME:CST
DTSTART:20241103T020000
TZOFFSETFROM:-0500
TZOFFSETTO:-0600
RDATE:20251102T020000
END:STANDARD
BEGIN:DAYLIGHT
TZNAME:CDT
DTSTART:20250309T020000
TZOFFSETFROM:-0600
TZOFFSETTO:-0500
RDATE:20260308T020000
END:DAYLIGHT
END:VTIMEZONE
BEGIN:VEVENT
UID:fd12ffdc-ef99-4fa7-a7ec-ffb7ac4f603e
DTSTAMP:20260425T152758Z
DESCRIPTION:The Jubilation! Ringers are an ensemble for beginning to interm
 ediate handbell ringers and include youth and adult ringers. They rehearse
  on Sundays from 12:15-1:30pm in Room 1 and are directed by Kathy Bures.
DTSTART;TZID=America/Chicago:20250316T121500
DTEND;TZID=America/Chicago:20250316T133000
LOCATION:Meets in Room 1\, Bell Room.
SUMMARY:Jubilation! Ringers
END:VEVENT
END:VCALENDAR
