BEGIN:VCALENDAR
VERSION:2.0
PRODID:-//gcpc.org//NONSGML kigkonsult.se iCalcreator 2.30.10//
CALSCALE:GREGORIAN
METHOD:PUBLISH
UID:4c7919a1-7252-4564-adb7-8376c0b97232
X-WR-CALDESC:
X-WR-RELCALID:37fd89f8f56b810f8f46eb9d42b98eab
X-WR-TIMEZONE:America/Chicago
BEGIN:VTIMEZONE
TZID:America/Chicago
BEGIN:STANDARD
TZNAME:CST
DTSTART:20241103T020000
TZOFFSETFROM:-0500
TZOFFSETTO:-0600
RDATE:20251102T020000
END:STANDARD
BEGIN:DAYLIGHT
TZNAME:CDT
DTSTART:20250309T020000
TZOFFSETFROM:-0600
TZOFFSETTO:-0500
RDATE:20260308T020000
END:DAYLIGHT
END:VTIMEZONE
BEGIN:VEVENT
UID:867515b8-8942-4b18-aef8-aa0f8be2fc21
DTSTAMP:20260422T083128Z
DESCRIPTION:
DTSTART;TZID=America/Chicago:20250317T090000
DTEND;TZID=America/Chicago:20250317T100000
LOCATION:
SUMMARY:EncoreKC! Act II
END:VEVENT
END:VCALENDAR
