BEGIN:VCALENDAR
VERSION:2.0
PRODID:-//gcpc.org//NONSGML kigkonsult.se iCalcreator 2.30.10//
CALSCALE:GREGORIAN
METHOD:PUBLISH
UID:173ad692-94ee-4d7c-9bd5-f8a8ad5102d5
X-WR-CALDESC:
X-WR-RELCALID:2495c8ec705163b95dbbcbf5f7a4f30b
X-WR-TIMEZONE:America/Chicago
BEGIN:VTIMEZONE
TZID:America/Chicago
BEGIN:STANDARD
TZNAME:CST
DTSTART:20241103T020000
TZOFFSETFROM:-0500
TZOFFSETTO:-0600
RDATE:20251102T020000
END:STANDARD
BEGIN:DAYLIGHT
TZNAME:CDT
DTSTART:20250309T020000
TZOFFSETFROM:-0600
TZOFFSETTO:-0500
RDATE:20260308T020000
END:DAYLIGHT
END:VTIMEZONE
BEGIN:VEVENT
UID:cc243d3e-9314-499d-a417-ea36522b499d
DTSTAMP:20260423T014841Z
DESCRIPTION:
DTSTART;TZID=America/Chicago:20250317T110000
DTEND;TZID=America/Chicago:20250317T120000
LOCATION:
SUMMARY:EncoreKC! Choir
END:VEVENT
END:VCALENDAR
