BEGIN:VCALENDAR
VERSION:2.0
PRODID:-//gcpc.org//NONSGML kigkonsult.se iCalcreator 2.30.10//
CALSCALE:GREGORIAN
METHOD:PUBLISH
UID:dd8d55a2-62cf-46d0-b667-9c31dd7b4b29
X-WR-CALDESC:Generosity Team meetings meet via Zoom.
X-WR-RELCALID:adce314ab3cd8ae215a46db3a4dc1f10
X-WR-TIMEZONE:America/Chicago
BEGIN:VTIMEZONE
TZID:America/Chicago
BEGIN:STANDARD
TZNAME:CST
DTSTART:20241103T020000
TZOFFSETFROM:-0500
TZOFFSETTO:-0600
RDATE:20251102T020000
END:STANDARD
BEGIN:DAYLIGHT
TZNAME:CDT
DTSTART:20250309T020000
TZOFFSETFROM:-0600
TZOFFSETTO:-0500
RDATE:20260308T020000
END:DAYLIGHT
END:VTIMEZONE
BEGIN:VEVENT
UID:48c7fa07-2ad2-4572-9ae9-ce802dfa5cc8
DTSTAMP:20260421T174329Z
DESCRIPTION:Generosity Team meetings meet via Zoom.
DTSTART;TZID=America/Chicago:20250409T203000
DTEND;TZID=America/Chicago:20250409T213000
LOCATION:
SUMMARY:Generosity Team - HYBRID
END:VEVENT
END:VCALENDAR
