BEGIN:VCALENDAR
VERSION:2.0
PRODID:-//gcpc.org//NONSGML kigkonsult.se iCalcreator 2.30.10//
CALSCALE:GREGORIAN
METHOD:PUBLISH
UID:66a7a0c7-99e0-4ef9-921e-428ab4c4ab57
X-WR-CALDESC:To view the bulletin\, announcements\, get Zoom link and more\
 , click the LINK on our home page for this week's worship service.\n
X-WR-RELCALID:85a1607d2b9b647477bf05b7759fa7ea
X-WR-TIMEZONE:America/Chicago
BEGIN:VTIMEZONE
TZID:America/Chicago
BEGIN:STANDARD
TZNAME:CST
DTSTART:20241103T020000
TZOFFSETFROM:-0500
TZOFFSETTO:-0600
RDATE:20251102T020000
END:STANDARD
BEGIN:DAYLIGHT
TZNAME:CDT
DTSTART:20250309T020000
TZOFFSETFROM:-0600
TZOFFSETTO:-0500
RDATE:20260308T020000
END:DAYLIGHT
END:VTIMEZONE
BEGIN:VEVENT
UID:e7b0f78e-bbcb-4ec6-898f-9033a98ba58c
DTSTAMP:20260422T053401Z
DESCRIPTION:To view the bulletin\, announcements\, get Zoom link and more\,
  click the LINK on our home page for this week's worship service.\n
DTSTART;TZID=America/Chicago:20250427T093000
DTEND;TZID=America/Chicago:20250427T103000
LOCATION:Sanctuary
SUMMARY:Worship
END:VEVENT
END:VCALENDAR
