BEGIN:VCALENDAR
VERSION:2.0
PRODID:-//gcpc.org//NONSGML kigkonsult.se iCalcreator 2.30.10//
CALSCALE:GREGORIAN
METHOD:PUBLISH
UID:aa37bebc-d136-4949-a9da-6a1218911887
X-WR-CALDESC:Celebration! Choir & Chimes is a choir of 2nd-5th/6th grade st
 udents who meet in Room 15 at the beginning of the Sunday School hour from
  10:45-11:05am.  Celebration! is led by Pam Kelly\, director – Angela Krug
 \, accompanist – and Katie Hearn & Keith Langabee\, assistant directors.\n
 \nJoy! Singers is a choir for our children\, ages 4s-1st graders. We meet 
 at the beginning of the Sunday School hour from 10:45-11:05am in Room 26. 
 Joy! Singers are co-directed by Emily Hussey & Hilary Schmidt.
X-WR-RELCALID:f2bea1f0a1b83c31425b49c88de9b3ae
X-WR-TIMEZONE:America/Chicago
BEGIN:VTIMEZONE
TZID:America/Chicago
BEGIN:STANDARD
TZNAME:CST
DTSTART:20241103T020000
TZOFFSETFROM:-0500
TZOFFSETTO:-0600
RDATE:20251102T020000
END:STANDARD
BEGIN:DAYLIGHT
TZNAME:CDT
DTSTART:20250309T020000
TZOFFSETFROM:-0600
TZOFFSETTO:-0500
RDATE:20260308T020000
END:DAYLIGHT
END:VTIMEZONE
BEGIN:VEVENT
UID:f158cdb1-a6fe-4d2f-8e96-3866f8eaeaa8
DTSTAMP:20260421T034602Z
DESCRIPTION:Celebration! Choir & Chimes is a choir of 2nd-5th/6th grade stu
 dents who meet in Room 15 at the beginning of the Sunday School hour from 
 10:45-11:05am.  Celebration! is led by Pam Kelly\, director – Angela Krug\
 , accompanist – and Katie Hearn & Keith Langabee\, assistant directors.\n
 \nJoy! Singers is a choir for our children\, ages 4s-1st graders. We meet 
 at the beginning of the Sunday School hour from 10:45-11:05am in Room 26. 
 Joy! Singers are co-directed by Emily Hussey & Hilary Schmidt.
DTSTART;TZID=America/Chicago:20250427T104500
DTEND;TZID=America/Chicago:20250427T110500
LOCATION:Meets in Rooms 26 and 15
SUMMARY:Joy! & Celebration! Choirs
END:VEVENT
END:VCALENDAR
