BEGIN:VCALENDAR
VERSION:2.0
PRODID:-//gcpc.org//NONSGML kigkonsult.se iCalcreator 2.30.10//
CALSCALE:GREGORIAN
METHOD:PUBLISH
UID:14b5ea3e-9eee-4c45-b39d-efc94d215a88
X-WR-CALDESC:Once a month\, SMASH happens! This popular program is an activ
 ity for 1st through 5th graders combining sports\, music\, arts\, service\
 , and “hangout” time and offers a time for children to be nurtured in fait
 h by building relationships with a variety of adults of all ages.
X-WR-RELCALID:c1383cf9bdffd0f5597fe779fbbc244f
X-WR-TIMEZONE:America/Chicago
BEGIN:VTIMEZONE
TZID:America/Chicago
BEGIN:STANDARD
TZNAME:CST
DTSTART:20241103T020000
TZOFFSETFROM:-0500
TZOFFSETTO:-0600
RDATE:20251102T020000
RDATE:20261101T020000
END:STANDARD
BEGIN:DAYLIGHT
TZNAME:CDT
DTSTART:20250309T020000
TZOFFSETFROM:-0600
TZOFFSETTO:-0500
RDATE:20260308T020000
END:DAYLIGHT
END:VTIMEZONE
BEGIN:VEVENT
UID:1270ca38-9f80-4a5e-b7ac-ae697a0a0436
DTSTAMP:20260424T214035Z
DESCRIPTION:Once a month\, SMASH happens! This popular program is an activi
 ty for 1st through 5th graders combining sports\, music\, arts\, service\,
  and “hangout” time and offers a time for children to be nurtured in faith
  by building relationships with a variety of adults of all ages.
DTSTART;TZID=America/Chicago:20250518T160000
DTEND;TZID=America/Chicago:20250518T180000
LOCATION:Heartland Hall
SUMMARY:SMASH
END:VEVENT
END:VCALENDAR
