BEGIN:VCALENDAR
VERSION:2.0
PRODID:-//gcpc.org//NONSGML kigkonsult.se iCalcreator 2.30.10//
CALSCALE:GREGORIAN
METHOD:PUBLISH
UID:71f4e317-9218-4aa4-b765-963f2439e6b9
X-WR-CALDESC:
X-WR-RELCALID:c67a16a0de3ac61bfb961d325ae96f1e
X-WR-TIMEZONE:America/Chicago
BEGIN:VTIMEZONE
TZID:America/Chicago
BEGIN:STANDARD
TZNAME:CST
DTSTART:20251102T020000
TZOFFSETFROM:-0500
TZOFFSETTO:-0600
RDATE:20261101T020000
END:STANDARD
BEGIN:DAYLIGHT
TZNAME:CDT
DTSTART:20260308T020000
TZOFFSETFROM:-0600
TZOFFSETTO:-0500
RDATE:20270314T020000
END:DAYLIGHT
END:VTIMEZONE
BEGIN:VEVENT
UID:b2e2949f-7f1b-4595-97e5-99b1b4338376
DTSTAMP:20260422T043356Z
DESCRIPTION:
DTSTART;TZID=America/Chicago:20260405T140000
DTEND;TZID=America/Chicago:20260405T160000
LOCATION:
SUMMARY:APF Bible Study
END:VEVENT
END:VCALENDAR
