BEGIN:VCALENDAR
VERSION:2.0
PRODID:-//gcpc.org//NONSGML kigkonsult.se iCalcreator 2.30.10//
CALSCALE:GREGORIAN
METHOD:PUBLISH
UID:36fe4999-3da8-4dde-9cfd-d58f488df4dc
X-WR-CALDESC:
X-WR-RELCALID:f5e63b941da9d0f5834a653000f41de7
X-WR-TIMEZONE:America/Chicago
BEGIN:VTIMEZONE
TZID:America/Chicago
BEGIN:STANDARD
TZNAME:CST
DTSTART:20251102T020000
TZOFFSETFROM:-0500
TZOFFSETTO:-0600
RDATE:20261101T020000
END:STANDARD
BEGIN:DAYLIGHT
TZNAME:CDT
DTSTART:20260308T020000
TZOFFSETFROM:-0600
TZOFFSETTO:-0500
RDATE:20270314T020000
END:DAYLIGHT
END:VTIMEZONE
BEGIN:VEVENT
UID:befc2170-0bd7-4b55-97d0-7c326ca04522
DTSTAMP:20260422T044526Z
DESCRIPTION:
DTSTART;TZID=America/Chicago:20260406T093000
DTEND;TZID=America/Chicago:20260406T120000
LOCATION:
SUMMARY:EncoreKC! Choir & Act II
END:VEVENT
END:VCALENDAR
