BEGIN:VCALENDAR
VERSION:2.0
PRODID:-//gcpc.org//NONSGML kigkonsult.se iCalcreator 2.30.10//
CALSCALE:GREGORIAN
METHOD:PUBLISH
UID:f659ca51-77fe-43c9-836a-5101c4a02ec3
X-WR-CALDESC:Set-up begins at 12:30pm - actual playing time is 1-4pm
X-WR-RELCALID:0dbac764a2b7e274b3aa93f13b342487
X-WR-TIMEZONE:America/Chicago
BEGIN:VTIMEZONE
TZID:America/Chicago
BEGIN:STANDARD
TZNAME:CST
DTSTART:20251102T020000
TZOFFSETFROM:-0500
TZOFFSETTO:-0600
RDATE:20261101T020000
END:STANDARD
BEGIN:DAYLIGHT
TZNAME:CDT
DTSTART:20260308T020000
TZOFFSETFROM:-0600
TZOFFSETTO:-0500
RDATE:20270314T020000
END:DAYLIGHT
END:VTIMEZONE
BEGIN:VEVENT
UID:f193a881-f062-407d-ba85-2d7b9b4a6fca
DTSTAMP:20260422T042434Z
DESCRIPTION:Set-up begins at 12:30pm - actual playing time is 1-4pm
DTSTART;TZID=America/Chicago:20260406T130000
DTEND;TZID=America/Chicago:20260406T163000
LOCATION:Room 5
SUMMARY:Bridge Group
END:VEVENT
END:VCALENDAR
