BEGIN:VCALENDAR
VERSION:2.0
PRODID:-//gcpc.org//NONSGML kigkonsult.se iCalcreator 2.30.10//
CALSCALE:GREGORIAN
METHOD:PUBLISH
UID:72b1e00e-361f-421a-aa0f-52ee640f4e70
X-WR-CALDESC:This group meets weekly to develop woodworking skills and for 
 fellowship.
X-WR-RELCALID:b74d7b228b08c5eb9f468a2f972578db
X-WR-TIMEZONE:America/Chicago
BEGIN:VTIMEZONE
TZID:America/Chicago
BEGIN:STANDARD
TZNAME:CST
DTSTART:20251102T020000
TZOFFSETFROM:-0500
TZOFFSETTO:-0600
RDATE:20261101T020000
END:STANDARD
BEGIN:DAYLIGHT
TZNAME:CDT
DTSTART:20260308T020000
TZOFFSETFROM:-0600
TZOFFSETTO:-0500
RDATE:20270314T020000
END:DAYLIGHT
END:VTIMEZONE
BEGIN:VEVENT
UID:904766a1-338f-4ccb-8119-d62acfd94059
DTSTAMP:20260422T043458Z
DESCRIPTION:This group meets weekly to develop woodworking skills and for f
 ellowship.
DTSTART;TZID=America/Chicago:20260407T090000
DTEND;TZID=America/Chicago:20260407T110000
LOCATION:Heartland Hall
SUMMARY:Woodworkers
END:VEVENT
END:VCALENDAR
