BEGIN:VCALENDAR
VERSION:2.0
PRODID:-//gcpc.org//NONSGML kigkonsult.se iCalcreator 2.30.10//
CALSCALE:GREGORIAN
METHOD:PUBLISH
UID:0b0f16be-996c-41b0-ac04-53ef21ec12a2
X-WR-CALDESC:The Charter Ringers are an ensemble for intermediate to advanc
 ed handbell ringers and play a range of exciting and challenging music. Th
 ey are co-directed by Celia Nicholas and Chris Krug and rehearse on Wednes
 days from 6:00-7:00pm in Room 1.
X-WR-RELCALID:839ff4992eca86e4090049b92bfc7018
X-WR-TIMEZONE:America/Chicago
BEGIN:VTIMEZONE
TZID:America/Chicago
BEGIN:STANDARD
TZNAME:CST
DTSTART:20251102T020000
TZOFFSETFROM:-0500
TZOFFSETTO:-0600
RDATE:20261101T020000
END:STANDARD
BEGIN:DAYLIGHT
TZNAME:CDT
DTSTART:20260308T020000
TZOFFSETFROM:-0600
TZOFFSETTO:-0500
RDATE:20270314T020000
END:DAYLIGHT
END:VTIMEZONE
BEGIN:VEVENT
UID:b7b8e337-d2a3-40b2-bc47-2f5ffada9770
DTSTAMP:20260422T043920Z
DESCRIPTION:The Charter Ringers are an ensemble for intermediate to advance
 d handbell ringers and play a range of exciting and challenging music. The
 y are co-directed by Celia Nicholas and Chris Krug and rehearse on Wednesd
 ays from 6:00-7:00pm in Room 1.
DTSTART;TZID=America/Chicago:20260408T180000
DTEND;TZID=America/Chicago:20260408T190000
LOCATION:Meets in Room 1\, Bell Room.
SUMMARY:Charter Ringers
END:VEVENT
END:VCALENDAR
