BEGIN:VCALENDAR
VERSION:2.0
PRODID:-//gcpc.org//NONSGML kigkonsult.se iCalcreator 2.30.10//
CALSCALE:GREGORIAN
METHOD:PUBLISH
UID:b7a95702-0353-45a8-86bd-9dfc6e1f46b5
X-WR-CALDESC:Chancel Choir is led by the Director of Music Ministries and i
 s made up of youth to adult singers. They rehearse on Wednesdays from 7:05
 -8:30pm. from the Wednesday before Labor Day. to the Wednesday before Memo
 rial Day in Room 6/Choir Room\, sing additionally over the summer\, and sh
 are major presentations during Advent and Holy Week.
X-WR-RELCALID:c790a54979a21c3c4fdfefccb3c7dc3a
X-WR-TIMEZONE:America/Chicago
BEGIN:VTIMEZONE
TZID:America/Chicago
BEGIN:STANDARD
TZNAME:CST
DTSTART:20251102T020000
TZOFFSETFROM:-0500
TZOFFSETTO:-0600
RDATE:20261101T020000
END:STANDARD
BEGIN:DAYLIGHT
TZNAME:CDT
DTSTART:20260308T020000
TZOFFSETFROM:-0600
TZOFFSETTO:-0500
RDATE:20270314T020000
END:DAYLIGHT
END:VTIMEZONE
BEGIN:VEVENT
UID:889e402a-1b07-4d80-a00e-c3ce6bed1e83
DTSTAMP:20260422T044215Z
DESCRIPTION:Chancel Choir is led by the Director of Music Ministries and is
  made up of youth to adult singers. They rehearse on Wednesdays from 7:05-
 8:30pm. from the Wednesday before Labor Day. to the Wednesday before Memor
 ial Day in Room 6/Choir Room\, sing additionally over the summer\, and sha
 re major presentations during Advent and Holy Week.
DTSTART;TZID=America/Chicago:20260408T190500
DTEND;TZID=America/Chicago:20260408T203000
LOCATION:Room 6/Choir Room
SUMMARY:Chancel Choir Reh
END:VEVENT
END:VCALENDAR
