BEGIN:VCALENDAR
VERSION:2.0
PRODID:-//gcpc.org//NONSGML kigkonsult.se iCalcreator 2.30.10//
CALSCALE:GREGORIAN
METHOD:PUBLISH
UID:416d6caa-38b4-4fa1-8985-59d09dfae83d
X-WR-CALDESC:
X-WR-RELCALID:cf4575a1ffd0fc7f597065769d8ef32e
X-WR-TIMEZONE:America/Chicago
BEGIN:VTIMEZONE
TZID:America/Chicago
BEGIN:STANDARD
TZNAME:CST
DTSTART:20251102T020000
TZOFFSETFROM:-0500
TZOFFSETTO:-0600
RDATE:20261101T020000
END:STANDARD
BEGIN:DAYLIGHT
TZNAME:CDT
DTSTART:20260308T020000
TZOFFSETFROM:-0600
TZOFFSETTO:-0500
RDATE:20270314T020000
END:DAYLIGHT
END:VTIMEZONE
BEGIN:VEVENT
UID:00a07634-4f7f-41f7-8dcb-80fde50e4fb9
DTSTAMP:20260422T045436Z
DESCRIPTION:
DTSTART;TZID=America/Chicago:20260411T090000
DTEND;TZID=America/Chicago:20260411T120000
LOCATION:
SUMMARY:Organ Rehearsal
END:VEVENT
END:VCALENDAR
