BEGIN:VCALENDAR
VERSION:2.0
PRODID:-//gcpc.org//NONSGML kigkonsult.se iCalcreator 2.30.10//
CALSCALE:GREGORIAN
METHOD:PUBLISH
UID:5d481e6b-d29a-49b8-a98b-83ed1e8c854e
X-WR-CALDESC:
X-WR-RELCALID:6ebff1bab000f2a0a0dd0aac32026fbf
X-WR-TIMEZONE:America/Chicago
BEGIN:VTIMEZONE
TZID:America/Chicago
BEGIN:STANDARD
TZNAME:CST
DTSTART:20251102T020000
TZOFFSETFROM:-0500
TZOFFSETTO:-0600
RDATE:20261101T020000
END:STANDARD
BEGIN:DAYLIGHT
TZNAME:CDT
DTSTART:20260308T020000
TZOFFSETFROM:-0600
TZOFFSETTO:-0500
RDATE:20270314T020000
END:DAYLIGHT
END:VTIMEZONE
BEGIN:VEVENT
UID:1eb95656-e7b1-4d78-89c5-8455f6e06e2a
DTSTAMP:20260422T043219Z
DESCRIPTION:
DTSTART;TZID=America/Chicago:20260412T104500
DTEND;TZID=America/Chicago:20260412T114500
LOCATION:
SUMMARY:Christian Education
END:VEVENT
END:VCALENDAR
