BEGIN:VCALENDAR
VERSION:2.0
PRODID:-//gcpc.org//NONSGML kigkonsult.se iCalcreator 2.30.10//
CALSCALE:GREGORIAN
METHOD:PUBLISH
UID:dfe66449-8977-4da5-a6e3-8530298bf24c
X-WR-CALDESC:
X-WR-RELCALID:ec0b81ab03ac4f592d23bb40919f50a7
X-WR-TIMEZONE:America/Chicago
BEGIN:VTIMEZONE
TZID:America/Chicago
BEGIN:STANDARD
TZNAME:CST
DTSTART:20251102T020000
TZOFFSETFROM:-0500
TZOFFSETTO:-0600
RDATE:20261101T020000
END:STANDARD
BEGIN:DAYLIGHT
TZNAME:CDT
DTSTART:20260308T020000
TZOFFSETFROM:-0600
TZOFFSETTO:-0500
RDATE:20270314T020000
END:DAYLIGHT
END:VTIMEZONE
BEGIN:VEVENT
UID:267f555e-e124-4265-b13f-6eaa4ae41da8
DTSTAMP:20260422T043427Z
DESCRIPTION:
DTSTART;TZID=America/Chicago:20260412T140000
DTEND;TZID=America/Chicago:20260412T160000
LOCATION:
SUMMARY:APF Bible Study
END:VEVENT
END:VCALENDAR
