BEGIN:VCALENDAR
VERSION:2.0
PRODID:-//gcpc.org//NONSGML kigkonsult.se iCalcreator 2.30.10//
CALSCALE:GREGORIAN
METHOD:PUBLISH
UID:404c0bca-65ab-42ed-b3c9-c40015f9a4f5
X-WR-CALDESC:
X-WR-RELCALID:20eb7b27dbd59c7b12a03857f51b7e36
X-WR-TIMEZONE:America/Chicago
BEGIN:VTIMEZONE
TZID:America/Chicago
BEGIN:STANDARD
TZNAME:CST
DTSTART:20251102T020000
TZOFFSETFROM:-0500
TZOFFSETTO:-0600
RDATE:20261101T020000
END:STANDARD
BEGIN:DAYLIGHT
TZNAME:CDT
DTSTART:20260308T020000
TZOFFSETFROM:-0600
TZOFFSETTO:-0500
RDATE:20270314T020000
END:DAYLIGHT
END:VTIMEZONE
BEGIN:VEVENT
UID:8521735b-8ef9-4f4c-860d-0bc94306e0cb
DTSTAMP:20260422T044021Z
DESCRIPTION:
DTSTART;TZID=America/Chicago:20260416T130000
DTEND;TZID=America/Chicago:20260416T140000
LOCATION:
SUMMARY:EncoreKC! Woodwinds
END:VEVENT
END:VCALENDAR
