BEGIN:VCALENDAR
VERSION:2.0
PRODID:-//gcpc.org//NONSGML kigkonsult.se iCalcreator 2.30.10//
CALSCALE:GREGORIAN
METHOD:PUBLISH
UID:18eeb18b-26e2-4748-88ea-bb9abe2ebcd3
X-WR-CALDESC:
X-WR-RELCALID:286c44dfac08bc255d0b5a6a638b9857
X-WR-TIMEZONE:America/Chicago
BEGIN:VTIMEZONE
TZID:America/Chicago
BEGIN:STANDARD
TZNAME:CST
DTSTART:20251102T020000
TZOFFSETFROM:-0500
TZOFFSETTO:-0600
RDATE:20261101T020000
END:STANDARD
BEGIN:DAYLIGHT
TZNAME:CDT
DTSTART:20260308T020000
TZOFFSETFROM:-0600
TZOFFSETTO:-0500
RDATE:20270314T020000
END:DAYLIGHT
END:VTIMEZONE
BEGIN:VEVENT
UID:f564aba0-5b0a-40de-bf26-b4d25852bfeb
DTSTAMP:20260422T043357Z
DESCRIPTION:
DTSTART;TZID=America/Chicago:20260419T140000
DTEND;TZID=America/Chicago:20260419T160000
LOCATION:
SUMMARY:APF Bible Study
END:VEVENT
END:VCALENDAR
