BEGIN:VCALENDAR
VERSION:2.0
PRODID:-//gcpc.org//NONSGML kigkonsult.se iCalcreator 2.30.10//
CALSCALE:GREGORIAN
METHOD:PUBLISH
UID:b1337c05-4fc4-4900-8bb1-608906dc781b
X-WR-CALDESC:For information about the group\, please contact Tom\, 913-530
 -0981.
X-WR-RELCALID:2043a011696379b4de16f4a8bf9a407f
X-WR-TIMEZONE:America/Chicago
BEGIN:VTIMEZONE
TZID:America/Chicago
BEGIN:STANDARD
TZNAME:CST
DTSTART:20251102T020000
TZOFFSETFROM:-0500
TZOFFSETTO:-0600
RDATE:20261101T020000
END:STANDARD
BEGIN:DAYLIGHT
TZNAME:CDT
DTSTART:20260308T020000
TZOFFSETFROM:-0600
TZOFFSETTO:-0500
RDATE:20270314T020000
END:DAYLIGHT
END:VTIMEZONE
BEGIN:VEVENT
UID:52c40b71-0167-42d3-8f76-29406d9a3afc
DTSTAMP:20260422T044429Z
DESCRIPTION:For information about the group\, please contact Tom\, 913-530-
 0981.
DTSTART;TZID=America/Chicago:20260420T120000
DTEND;TZID=America/Chicago:20260420T130000
LOCATION:In-Person
SUMMARY:College Nooners AA
END:VEVENT
END:VCALENDAR
