BEGIN:VCALENDAR
VERSION:2.0
PRODID:-//gcpc.org//NONSGML kigkonsult.se iCalcreator 2.30.10//
CALSCALE:GREGORIAN
METHOD:PUBLISH
UID:d732e983-f95e-42e5-a4c5-23a4513bd093
X-WR-CALDESC:This group meets weekly to develop woodworking skills and for 
 fellowship.
X-WR-RELCALID:d845750a38c729bff10aa0b298297e1b
X-WR-TIMEZONE:America/Chicago
BEGIN:VTIMEZONE
TZID:America/Chicago
BEGIN:STANDARD
TZNAME:CST
DTSTART:20251102T020000
TZOFFSETFROM:-0500
TZOFFSETTO:-0600
RDATE:20261101T020000
END:STANDARD
BEGIN:DAYLIGHT
TZNAME:CDT
DTSTART:20260308T020000
TZOFFSETFROM:-0600
TZOFFSETTO:-0500
RDATE:20270314T020000
END:DAYLIGHT
END:VTIMEZONE
BEGIN:VEVENT
UID:4069a508-0bf9-4d5a-bdf0-463050682324
DTSTAMP:20260422T043047Z
DESCRIPTION:This group meets weekly to develop woodworking skills and for f
 ellowship.
DTSTART;TZID=America/Chicago:20260421T090000
DTEND;TZID=America/Chicago:20260421T110000
LOCATION:Heartland Hall
SUMMARY:Woodworkers
END:VEVENT
END:VCALENDAR
