BEGIN:VCALENDAR
VERSION:2.0
PRODID:-//gcpc.org//NONSGML kigkonsult.se iCalcreator 2.30.10//
CALSCALE:GREGORIAN
METHOD:PUBLISH
UID:6389d3be-5e25-4acb-a8f1-f7b3b4efe277
X-WR-CALDESC:Meets in Room 21. Contact Pat Collins\, p5c_70@yahoo.com\, for
  more information.
X-WR-RELCALID:9a9b4bd00ce9b48e9967b2d64cebc10f
X-WR-TIMEZONE:America/Chicago
BEGIN:VTIMEZONE
TZID:America/Chicago
BEGIN:STANDARD
TZNAME:CST
DTSTART:20251102T020000
TZOFFSETFROM:-0500
TZOFFSETTO:-0600
RDATE:20261101T020000
END:STANDARD
BEGIN:DAYLIGHT
TZNAME:CDT
DTSTART:20260308T020000
TZOFFSETFROM:-0600
TZOFFSETTO:-0500
RDATE:20270314T020000
END:DAYLIGHT
END:VTIMEZONE
BEGIN:VEVENT
UID:3384388f-6bc0-42bf-8938-c80d66e6fc62
DTSTAMP:20260422T044704Z
DESCRIPTION:Meets in Room 21. Contact Pat Collins\, p5c_70@yahoo.com\, for 
 more information.
DTSTART;TZID=America/Chicago:20260421T130000
DTEND;TZID=America/Chicago:20260421T143000
LOCATION:Room 21
SUMMARY:Crafters (Daytime)
END:VEVENT
END:VCALENDAR
